Workbook

Sheet 1ER TRIMESTRE
A2: INSTITUCIÓN: | C2: CENTRO EDUCATIVO COMUNITARIA INTERCULTURAL BILINGÜE "RUMIÑAHUI"
A3: DOCENTE: | C3: CRISTHIAN QUIÑONEZ
A4: GRADO: | C4: QUINTO | D4: PROCESO | G4: DDTE
A6: PRIMER QUIMESTRE
A7: MATEMÁTICA
A8: ESTUDIANTES | D8: EVALUACIÓN FORMATIVA | T8: REFUERZO PEDAGÓGICO | V8: TOTAL 70% | W8: EXAMEN DEL PRIMER TRIMESTRE | X8: PROYECTO INTERDISCIPLINARIO | Y8: EVALUACIÓN SUMATIVA (PROMEDIO DE EXAMEN+PROYECTO INTERDISCIPLINARIO) | Z8: 0.3 | AA8: TOTAL TRIMESTRE (100%)
D9: APORTES DISCIPLINARES O INTERDISCIPLINARES INDIVIDUALES | L9: APORTES DISCIPLINARES O INTERDISCIPLINARES GRUPALES
D10: Lecciones | F10: Pruebas | H10: Tareas | J10: Proyectos | L10: Proyectos | N10: Exposiciones | P10: Talleres | R10: Productos
A11: Nº | B11: CÉDULA | C11: APELLIDOS/NOMBRES | D11: INSUMO 1 | E11: INSUMO 2 | F11: INSUMO 1 | G11: INSUMO 2 | H11: INSUMO 1 | I11: INSUMO 2 | J11: INSUMO 1 | K11: INSUMO 2 | L11: INSUMO 1 | M11: INSUMO 2 | N11: INSUMO 1 | O11: INSUMO 2 | P11: INSUMO 1 | Q11: INSUMO 2 | R11: INSUMO 1 | S11: INSUMO 2
A12: 1 | B12: ='[1]01_lista_jornada_anio_paralelo'!C6 -> 0851243121 | C12: ='[1]01_lista_jornada_anio_paralelo'!E6 -> AÑAPA SAN NICOLAS JULIAN RITER | D12: 10 | E12: 10 | F12: 10 | G12: 10 | H12: 10 | I12: 10 | V12: =IFERROR(TRUNC(AVERAGE(D12:U12),2),"")*70/100 -> 7 | W12: 10 | Y12: =AVERAGE(W12:X12) -> 10 | Z12: =Y12*30/100 -> 3 | AA12: =IFERROR(TRUNC(SUM(V12+Z12),2),"") -> 10 | AQ12: =IFERROR(TRUNC(SUM(L12+Y12),2),"") -> 10
A13: 2 | B13: ='[1]01_lista_jornada_anio_paralelo'!C7 -> 2351581257 | C13: ='[1]01_lista_jornada_anio_paralelo'!E7 -> CIMARRON DE LA CRUZ ERLIN EDISON | D13: 10 | E13: 10 | F13: 10 | G13: 10 | H13: 10 | I13: 10 | V13: =IFERROR(TRUNC(AVERAGE(D13:U13),2),"")*70/100 -> 7 | W13: 10 | Y13: =AVERAGE(W13:X13) -> 10 | Z13: =Y13*30/100 -> 3 | AA13: =IFERROR(TRUNC(SUM(V13+Z13),2),"") -> 10 | AQ13: =IFERROR(TRUNC(SUM(L13+Y13),2),"") -> 10
A14: 3 | B14: ='[1]01_lista_jornada_anio_paralelo'!C8 -> 0851270322 | C14: ='[1]01_lista_jornada_anio_paralelo'!E8 -> DE LA CRUZ AÑAPA ANDERSON JONATHAN | D14: 9 | E14: 8 | F14: 9 | G14: 9 | H14: 9 | I14: 8 | V14: =IFERROR(TRUNC(AVERAGE(D14:U14),2),"")*70/100 -> 6.062 | W14: 8 | Y14: =AVERAGE(W14:X14) -> 8 | Z14: =Y14*30/100 -> 2.4 | AA14: =IFERROR(TRUNC(SUM(V14+Z14),2),"") -> 8.46 | AQ14: =IFERROR(TRUNC(SUM(L14+Y14),2),"") -> 8
A15: 4 | B15: ='[1]01_lista_jornada_anio_paralelo'!C9 -> 0851268029 | C15: ='[1]01_lista_jornada_anio_paralelo'!E9 -> DE LA CRUZ DE LA CRUZ YAQUELIN YANELA | D15: 10 | E15: 10 | F15: 10 | G15: 10 | H15: 10 | I15: 10 | V15: =IFERROR(TRUNC(AVERAGE(D15:U15),2),"")*70/100 -> 7 | W15: 10 | Y15: =AVERAGE(W15:X15) -> 10 | Z15: =Y15*30/100 -> 3 | AA15: =IFERROR(TRUNC(SUM(V15+Z15),2),"") -> 10 | AQ15: =IFERROR(TRUNC(SUM(L15+Y15),2),"") -> 10
A16: 5 | B16: ='[1]01_lista_jornada_anio_paralelo'!C10 -> 0851575548 | C16: ='[1]01_lista_jornada_anio_paralelo'!E10 -> DE LA CRUZ QUINTERO CALVINO LENIN | D16: 9 | E16: 9 | F16: 9 | G16: 8 | H16: 9 | I16: 8 | V16: =IFERROR(TRUNC(AVERAGE(D16:U16),2),"")*70/100 -> 6.062 | W16: 9 | Y16: =AVERAGE(W16:X16) -> 9 | Z16: =Y16*30/100 -> 2.7 | AA16: =IFERROR(TRUNC(SUM(V16+Z16),2),"") -> 8.76 | AQ16: =IFERROR(TRUNC(SUM(L16+Y16),2),"") -> 9
A17: 6 | B17: ='[1]01_lista_jornada_anio_paralelo'!C11 -> 0851588830 | C17: ='[1]01_lista_jornada_anio_paralelo'!E11 -> DE LA CRUZ QUINTERO YASILDA DAYANA | D17: 10 | E17: 10 | F17: 10 | G17: 10 | H17: 10 | I17: 10 | V17: =IFERROR(TRUNC(AVERAGE(D17:U17),2),"")*70/100 -> 7 | W17: 10 | Y17: =AVERAGE(W17:X17) -> 10 | Z17: =Y17*30/100 -> 3 | AA17: =IFERROR(TRUNC(SUM(V17+Z17),2),"") -> 10 | AQ17: =IFERROR(TRUNC(SUM(L17+Y17),2),"") -> 10
A18: 7 | B18: ='[1]01_lista_jornada_anio_paralelo'!C12 -> 0851121475 | C18: ='[1]01_lista_jornada_anio_paralelo'!E12 -> PIANCHICHE CIMARRON DERON DYLAN | V18: =IFERROR(TRUNC(AVERAGE(D18:U18),2),"")*70/100 -> #VALUE! | Y18: =AVERAGE(W18:X18) -> #DIV/0! | Z18: =Y18*30/100 -> #DIV/0! | AA18: =IFERROR(TRUNC(SUM(V18+Z18),2),"") | AQ18: =IFERROR(TRUNC(SUM(L18+Y18),2),"")
A19: 8 | B19: ='[1]01_lista_jornada_anio_paralelo'!C13 -> 0851551861 | C19: ='[1]01_lista_jornada_anio_paralelo'!E13 -> PIANCHICHE QUINTERO JONER OLIVER | D19: 8 | E19: 8 | F19: 9 | G19: 9 | H19: 8 | I19: 8 | V19: =IFERROR(TRUNC(AVERAGE(D19:U19),2),"")*70/100 -> 5.831 | W19: 8 | Y19: =AVERAGE(W19:X19) -> 8 | Z19: =Y19*30/100 -> 2.4 | AA19: =IFERROR(TRUNC(SUM(V19+Z19),2),"") -> 8.23 | AQ19: =IFERROR(TRUNC(SUM(L19+Y19),2),"") -> 8
A20: 9 | B20: ='[1]01_lista_jornada_anio_paralelo'!C14 -> 1758257396 | C20: ='[1]01_lista_jornada_anio_paralelo'!E14 -> PIANCHICHE QUINTERO KATHERIN SHERLY | D20: 8 | E20: 7 | F20: 7 | G20: 7 | H20: 8 | I20: 7 | V20: =IFERROR(TRUNC(AVERAGE(D20:U20),2),"")*70/100 -> 5.131 | W20: 8 | Y20: =AVERAGE(W20:X20) -> 8 | Z20: =Y20*30/100 -> 2.4 | AA20: =IFERROR(TRUNC(SUM(V20+Z20),2),"") -> 7.53 | AQ20: =IFERROR(TRUNC(SUM(L20+Y20),2),"") -> 8
A21: 10 | B21: ='[1]01_lista_jornada_anio_paralelo'!C15 -> 1758257297 | C21: ='[1]01_lista_jornada_anio_paralelo'!E15 -> PIANCHICHE QUINTERO WILI DARIO | D21: 8 | E21: 10 | F21: 10 | G21: 10 | H21: 10 | I21: 10 | V21: =IFERROR(TRUNC(AVERAGE(D21:U21),2),"")*70/100 -> 6.762 | W21: 8 | Y21: =AVERAGE(W21:X21) -> 8 | Z21: =Y21*30/100 -> 2.4 | AA21: =IFERROR(TRUNC(SUM(V21+Z21),2),"") -> 9.16 | AQ21: =IFERROR(TRUNC(SUM(L21+Y21),2),"") -> 8
A22: 11 | B22: ='[1]01_lista_jornada_anio_paralelo'!C16 -> 0851457713 | C22: ='[1]01_lista_jornada_anio_paralelo'!E16 -> SAN NICOLAS AÑAPA BRISNEY DAVIANA | D22: 10 | E22: 10 | F22: 10 | G22: 10 | H22: 10 | I22: 10 | V22: =IFERROR(TRUNC(AVERAGE(D22:U22),2),"")*70/100 -> 7 | W22: 10 | Y22: =AVERAGE(W22:X22) -> 10 | Z22: =Y22*30/100 -> 3 | AA22: =IFERROR(TRUNC(SUM(V22+Z22),2),"") -> 10 | AQ22: =IFERROR(TRUNC(SUM(L22+Y22),2),"") -> 10
A23: 12 | B23: ='[1]01_lista_jornada_anio_paralelo'!C17 -> 1756957666 | C23: ='[1]01_lista_jornada_anio_paralelo'!E17 -> SANNICOLAS DE LA CRUZ BRITANY DAYANA | D23: 10 | E23: 10 | F23: 10 | G23: 10 | H23: 10 | I23: 10 | V23: =IFERROR(TRUNC(AVERAGE(D23:U23),2),"")*70/100 -> 7 | W23: 10 | Y23: =AVERAGE(W23:X23) -> 10 | Z23: =Y23*30/100 -> 3 | AA23: =IFERROR(TRUNC(SUM(V23+Z23),2),"") -> 10 | AQ23: =IFERROR(TRUNC(SUM(L23+Y23),2),"") -> 10
A24: 13 | AQ24: =IFERROR(TRUNC(SUM(L24+Y24),2),"") -> 0
A25: 14 | AQ25: =IFERROR(TRUNC(SUM(L25+Y25),2),"") -> 0
A26: 15 | AQ26: =IFERROR(TRUNC(SUM(L26+Y26),2),"") -> 0
A27: 16 | AQ27: =IFERROR(TRUNC(SUM(L27+Y27),2),"") -> 0
A28: 17 | AQ28: =IFERROR(TRUNC(SUM(L28+Y28),2),"") -> 0
A29: 18 | AQ29: =IFERROR(TRUNC(SUM(L29+Y29),2),"") -> 0
A30: 19 | AQ30: =IFERROR(TRUNC(SUM(L30+Y30),2),"") -> 0
A31: 20 | AQ31: =IFERROR(TRUNC(SUM(L31+Y31),2),"") -> 0
A32: 21 | AQ32: =IFERROR(TRUNC(SUM(L32+Y32),2),"") -> 0
A33: 22 | AQ33: =IFERROR(TRUNC(SUM(L33+Y33),2),"") -> 0
A34: 23 | AQ34: =IFERROR(TRUNC(SUM(L34+Y34),2),"") -> 0
A35: 24 | AQ35: =IFERROR(TRUNC(SUM(L35+Y35),2),"") -> 0
... A37: 26 | AQ37: =IFERROR(TRUNC(SUM(L37+Y37),2),"") -> 0

Sheet CONS. 1ER TRIM.
A2: INSTITUCIÓN: | C2: CENTRO EDUCATIO COMUNITARIA INTERCULTURAL BILINGÜE "RUMIÑAHUI"
A3: DOCENTE: | C3: CRISTHIAN QUIÑONEZ
A4: GRADO: | C4: CUARTO | D4: PROCESO: | E4: DDTE
A6: PRIMER QUIMESTRE
A7: LENGUA Y LITERATURA
A8: ESTUDIANTES | D8: EVALUACIÓN FORMATIVA | E8: EVALUACIÓN SUMATIVA | F8: TOTAL TRIMESTRE (100%)
H9: ESTADÍSTICAS
A10: Nº | B10: CÉDULA | C10: APELLIDOS/NOMBRES
A11: 1 | B11: ='[2]01_lista_jornada_anio_paralelo'!D6 -> 0851920058 | C11: =[3]Agosto!B10 -> AÑAPA AÑAPA SAIRON JOHAO | D11: ='1ER TRIMESTRE'!V12 -> 7 | E11: ='1ER TRIMESTRE'!Z12 -> 3 | F11: ='1ER TRIMESTRE'!AA12 -> 10 | H11: LENGUA Y LITERATURA
A12: 2 | B12: ='[2]01_lista_jornada_anio_paralelo'!D7 -> 0851348904 | C12: =[3]Agosto!B11 -> AÑAPA DE LA CRUZ GILBERT SANTIAGO | D12: ='1ER TRIMESTRE'!V13 -> 7 | E12: ='1ER TRIMESTRE'!Z13 -> 3 | F12: ='1ER TRIMESTRE'!AA13 -> 10 | H12: ESC. | I12: CANT. | J12: %
A13: 3 | B13: ='[2]01_lista_jornada_anio_paralelo'!D8 -> 0851267625 | C13: =[3]Agosto!B12 -> AÑAPA DE LA CRUZ JANDRI ULICE | D13: ='1ER TRIMESTRE'!V14 -> 6.062 | E13: ='1ER TRIMESTRE'!Z14 -> 2.4 | F13: ='1ER TRIMESTRE'!AA14 -> 8.46 | H13: D.A. | I13: =COUNTIF(F11:F39,">8,99") -> 7 | J13: =(I13*100)/I17 -> 63.636364 | K13: %
A14: 4 | B14: ='[2]01_lista_jornada_anio_paralelo'!D9 -> 1757484652 | C14: =[3]Agosto!B13 -> AÑAPA QUINTERO DENNER JOSTIN | D14: ='1ER TRIMESTRE'!V15 -> 7 | E14: ='1ER TRIMESTRE'!Z15 -> 3 | F14: ='1ER TRIMESTRE'!AA15 -> 10 | H14: A.A. | I14: =COUNTIF(F11:F39,">6,99")-I13 -> 4 | J14: =(I14*100)/I17 -> 36.363636 | K14: %
A15: 5 | B15: ='[2]01_lista_jornada_anio_paralelo'!D10 -> 0851427955 | C15: =[3]Agosto!B14 -> CIMARRON DE LA CRUZ JAMILETH SAIDA | D15: ='1ER TRIMESTRE'!V16 -> 6.062 | E15: ='1ER TRIMESTRE'!Z16 -> 2.7 | F15: ='1ER TRIMESTRE'!AA16 -> 8.76 | H15: P.A. | I15: =COUNTIF(F11:F39,">4")-I13-I14 -> 0 | J15: =(I15*100)/I17 -> 0 | K15: %
A16: 6 | B16: ='[2]01_lista_jornada_anio_paralelo'!D11 -> 0851515122 | C16: =[3]Agosto!B15 -> DE LA CRUZ CIMARRON JHONNY WUALBER | D16: ='1ER TRIMESTRE'!V17 -> 7 | E16: ='1ER TRIMESTRE'!Z17 -> 3 | F16: ='1ER TRIMESTRE'!AA17 -> 10 | H16: N.A. | I16: =COUNTIF(F11:F39,">0")-I13-I14-I15 -> 0 | J16: =(I16*100)/I17 -> 0 | K16: %
A17: 7 | B17: ='[2]01_lista_jornada_anio_paralelo'!D12 -> 0851422535 | C17: =[3]Agosto!B16 -> DE LA CRUZ DE LA CRUZ FERLIN REINALDO | D17: ='1ER TRIMESTRE'!V18 -> #VALUE! | E17: ='1ER TRIMESTRE'!Z18 -> #DIV/0! | F17: ='1ER TRIMESTRE'!AA18 | H17: TOTAL | I17: =SUM(I13:I16) -> 11 | J17: =SUM(J13:J16) -> 100 | K17: %
A18: 8 | B18: ='[2]01_lista_jornada_anio_paralelo'!D13 -> 0852156157 | C18: =[3]Agosto!B17 -> DE LA CRUZ DELACRUZ HERSON EDISON | D18: ='1ER TRIMESTRE'!V19 -> 5.831 | E18: ='1ER TRIMESTRE'!Z19 -> 2.4 | F18: ='1ER TRIMESTRE'!AA19 -> 8.23
A19: 9 | B19: ='[2]01_lista_jornada_anio_paralelo'!D14 -> 1757685621 | C19: =[3]Agosto!B18 -> DE LA CRUZ SAN NICOLAS GRISSELY ROXANA | D19: ='1ER TRIMESTRE'!V20 -> 5.131 | E19: ='1ER TRIMESTRE'!Z20 -> 2.4 | F19: ='1ER TRIMESTRE'!AA20 -> 7.53
A20: 10 | B20: ='[2]01_lista_jornada_anio_paralelo'!D15 -> 0851453993 | C20: =[3]Agosto!B19 -> DE LA CRUZ TAPUYO NAICER ANDRAEL | D20: ='1ER TRIMESTRE'!V21 -> 6.762 | E20: ='1ER TRIMESTRE'!Z21 -> 2.4 | F20: ='1ER TRIMESTRE'!AA21 -> 9.16
A21: 11 | B21: ='[2]01_lista_jornada_anio_paralelo'!D16 -> 0851427641 | C21: =[3]Agosto!B20 -> DE LA CRUZ TAPUYO ROXI ELBIA | D21: ='1ER TRIMESTRE'!V22 -> 7 | E21: ='1ER TRIMESTRE'!Z22 -> 3 | F21: ='1ER TRIMESTRE'!AA22 -> 10
A22: 12 | B22: ='[2]01_lista_jornada_anio_paralelo'!D17 -> 0851427666 | C22: =[3]Agosto!B21 -> TAPUYO DE LA CRUZ SILVIA KATHERINE | D22: ='1ER TRIMESTRE'!V23 -> 7 | E22: ='1ER TRIMESTRE'!Z23 -> 3 | F22: ='1ER TRIMESTRE'!AA23 -> 10
A23: 13 | B23: ='[2]01_lista_jornada_anio_paralelo'!D18 -> 1758223646 | C23: =[3]Agosto!B22 -> TAPUYO SAN NICOLAS ROONY JANDRY
C48: DOCENTE | F48: RECTOR

Sheet 2DO TRIMESTRE
A2: INSTITUCIÓN: | C2: CENTRO EDUCATIVO COMUNITARIA INTERCULTURAL BILINGÜE "RUMIÑAHUI"
A3: DOCENTE: | C3: CRISTHIAN QUIÑONEZ
A4: GRADO: | C4: CUARTO | D4: PROCESO | G4: DDTE
A6: SEGUNDO TRIMESTRE
A7: LENGUA Y LITERATURA
A8: ESTUDIANTES | D8: EVALUACIÓN FORMATIVA | T8: REFUERZO PEDAGÓGICO | V8: TOTAL 70% | W8: EXAMEN DEL SEGUNDO TRIMESTRE | X8: PROYECTO INTERDISCIPLINARIO | Y8: EVALUACIÓN SUMATIVA (PROMEDIO DE EXAMEN+PROYECTO INTERDISCIPLINARIO) | Z8: 0.3 | AA8: TOTAL TRIMESTRE (100%)
D9: APORTES DISCIPLINARES O INTERDISCIPLINARES INDIVIDUALES | L9: APORTES DISCIPLINARES O INTERDISCIPLINARES GRUPALES
D10: Lecciones | F10: Pruebas | H10: Tareas | J10: Proyectos | L10: Proyectos | N10: Exposiciones | P10: Talleres | R10: Productos
A11: Nº | B11: CÉDULA | C11: APELLIDOS/NOMBRES | D11: INSUMO 1 | E11: INSUMO 2 | F11: INSUMO 1 | G11: INSUMO 2 | H11: INSUMO 1 | I11: INSUMO 2 | J11: INSUMO 1 | K11: INSUMO 2 | L11: INSUMO 1 | M11: INSUMO 2 | N11: INSUMO 1 | O11: INSUMO 2 | P11: INSUMO 1 | Q11: INSUMO 2 | R11: INSUMO 1 | S11: INSUMO 2
A12: 1 | B12: ='[2]01_lista_jornada_anio_paralelo'!D6 -> 0851920058 | C12: =[3]Agosto!B10 -> AÑAPA AÑAPA SAIRON JOHAO | V12: =IFERROR(TRUNC(AVERAGE(D12:U12),2),"")*70/100 -> #VALUE! | Y12: =AVERAGE(W12:X12) -> #DIV/0! | Z12: =Y12*30/100 -> #DIV/0! | AA12: =IFERROR(TRUNC(SUM(V12+Z12),2),"") | AN12: =IFERROR(TRUNC(SUM(#REF!+T12),2),"")
A13: 2 | B13: ='[2]01_lista_jornada_anio_paralelo'!D7 -> 0851348904 | C13: =[3]Agosto!B11 -> AÑAPA DE LA CRUZ GILBERT SANTIAGO | V13: =IFERROR(TRUNC(AVERAGE(D13:U13),2),"")*70/100 -> #VALUE! | Y13: =AVERAGE(W13:X13) -> #DIV/0! | Z13: =Y13*30/100 -> #DIV/0! | AA13: =IFERROR(TRUNC(SUM(V13+Z13),2),"") | AN13: =IFERROR(TRUNC(SUM(#REF!+T13),2),"")
A14: 3 | B14: ='[2]01_lista_jornada_anio_paralelo'!D8 -> 0851267625 | C14: =[3]Agosto!B12 -> AÑAPA DE LA CRUZ JANDRI ULICE | V14: =IFERROR(TRUNC(AVERAGE(D14:U14),2),"")*70/100 -> #VALUE! | Y14: =AVERAGE(W14:X14) -> #DIV/0! | Z14: =Y14*30/100 -> #DIV/0! | AA14: =IFERROR(TRUNC(SUM(V14+Z14),2),"") | AN14: =IFERROR(TRUNC(SUM(#REF!+T14),2),"")
A15: 4 | B15: ='[2]01_lista_jornada_anio_paralelo'!D9 -> 1757484652 | C15: =[3]Agosto!B13 -> AÑAPA QUINTERO DENNER JOSTIN | V15: =IFERROR(TRUNC(AVERAGE(D15:U15),2),"")*70/100 -> #VALUE! | Y15: =AVERAGE(W15:X15) -> #DIV/0! | Z15: =Y15*30/100 -> #DIV/0! | AA15: =IFERROR(TRUNC(SUM(V15+Z15),2),"") | AN15: =IFERROR(TRUNC(SUM(#REF!+T15),2),"")
A16: 5 | B16: ='[2]01_lista_jornada_anio_paralelo'!D10 -> 0851427955 | C16: =[3]Agosto!B14 -> CIMARRON DE LA CRUZ JAMILETH SAIDA | V16: =IFERROR(TRUNC(AVERAGE(D16:U16),2),"")*70/100 -> #VALUE! | Y16: =AVERAGE(W16:X16) -> #DIV/0! | Z16: =Y16*30/100 -> #DIV/0! | AA16: =IFERROR(TRUNC(SUM(V16+Z16),2),"") | AN16: =IFERROR(TRUNC(SUM(#REF!+T16),2),"")
A17: 6 | B17: ='[2]01_lista_jornada_anio_paralelo'!D11 -> 0851515122 | C17: =[3]Agosto!B15 -> DE LA CRUZ CIMARRON JHONNY WUALBER | V17: =IFERROR(TRUNC(AVERAGE(D17:U17),2),"")*70/100 -> #VALUE! | Y17: =AVERAGE(W17:X17) -> #DIV/0! | Z17: =Y17*30/100 -> #DIV/0! | AA17: =IFERROR(TRUNC(SUM(V17+Z17),2),"") | AN17: =IFERROR(TRUNC(SUM(#REF!+T17),2),"")
A18: 7 | B18: ='[2]01_lista_jornada_anio_paralelo'!D12 -> 0851422535 | C18: =[3]Agosto!B16 -> DE LA CRUZ DE LA CRUZ FERLIN REINALDO | V18: =IFERROR(TRUNC(AVERAGE(D18:U18),2),"")*70/100 -> #VALUE! | Y18: =AVERAGE(W18:X18) -> #DIV/0! | Z18: =Y18*30/100 -> #DIV/0! | AA18: =IFERROR(TRUNC(SUM(V18+Z18),2),"") | AN18: =IFERROR(TRUNC(SUM(#REF!+T18),2),"")
A19: 8 | B19: ='[2]01_lista_jornada_anio_paralelo'!D13 -> 0852156157 | C19: =[3]Agosto!B17 -> DE LA CRUZ DELACRUZ HERSON EDISON | V19: =IFERROR(TRUNC(AVERAGE(D19:U19),2),"")*70/100 -> #VALUE! | Y19: =AVERAGE(W19:X19) -> #DIV/0! | Z19: =Y19*30/100 -> #DIV/0! | AA19: =IFERROR(TRUNC(SUM(V19+Z19),2),"") | AN19: =IFERROR(TRUNC(SUM(#REF!+T19),2),"")
A20: 9 | B20: ='[2]01_lista_jornada_anio_paralelo'!D14 -> 1757685621 | C20: =[3]Agosto!B18 -> DE LA CRUZ SAN NICOLAS GRISSELY ROXANA | V20: =IFERROR(TRUNC(AVERAGE(D20:U20),2),"")*70/100 -> #VALUE! | Y20: =AVERAGE(W20:X20) -> #DIV/0! | Z20: =Y20*30/100 -> #DIV/0! | AA20: =IFERROR(TRUNC(SUM(V20+Z20),2),"") | AN20: =IFERROR(TRUNC(SUM(#REF!+T20),2),"")
A21: 10 | B21: ='[2]01_lista_jornada_anio_paralelo'!D15 -> 0851453993 | C21: =[3]Agosto!B19 -> DE LA CRUZ TAPUYO NAICER ANDRAEL | V21: =IFERROR(TRUNC(AVERAGE(D21:U21),2),"")*70/100 -> #VALUE! | Y21: =AVERAGE(W21:X21) -> #DIV/0! | Z21: =Y21*30/100 -> #DIV/0! | AA21: =IFERROR(TRUNC(SUM(V21+Z21),2),"") | AN21: =IFERROR(TRUNC(SUM(#REF!+T21),2),"")
A22: 11 | B22: ='[2]01_lista_jornada_anio_paralelo'!D16 -> 0851427641 | C22: =[3]Agosto!B20 -> DE LA CRUZ TAPUYO ROXI ELBIA | V22: =IFERROR(TRUNC(AVERAGE(D22:U22),2),"")*70/100 -> #VALUE! | Y22: =AVERAGE(W22:X22) -> #DIV/0! | Z22: =Y22*30/100 -> #DIV/0! | AA22: =IFERROR(TRUNC(SUM(V22+Z22),2),"") | AN22: =IFERROR(TRUNC(SUM(#REF!+T22),2),"")
A23: 12 | B23: ='[2]01_lista_jornada_anio_paralelo'!D17 -> 0851427666 | C23: =[3]Agosto!B21 -> TAPUYO DE LA CRUZ SILVIA KATHERINE | V23: =IFERROR(TRUNC(AVERAGE(D23:U23),2),"")*70/100 -> #VALUE! | Y23: =AVERAGE(W23:X23) -> #DIV/0! | Z23: =Y23*30/100 -> #DIV/0! | AA23: =IFERROR(TRUNC(SUM(V23+Z23),2),"") | AN23: =IFERROR(TRUNC(SUM(#REF!+T23),2),"")
A24: 13 | B24: ='[2]01_lista_jornada_anio_paralelo'!D18 -> 1758223646 | C24: =[3]Agosto!B22 -> TAPUYO SAN NICOLAS ROONY JANDRY | AN24: =IFERROR(TRUNC(SUM(#REF!+T24),2),"")
A25: 14 | AN25: =IFERROR(TRUNC(SUM(#REF!+T25),2),"")
A26: 15 | AN26: =IFERROR(TRUNC(SUM(#REF!+T26),2),"")
A27: 16 | AN27: =IFERROR(TRUNC(SUM(#REF!+T27),2),"")
A28: 17 | AN28: =IFERROR(TRUNC(SUM(#REF!+T28),2),"")
A29: 18 | AN29: =IFERROR(TRUNC(SUM(#REF!+T29),2),"")
A30: 19 | AN30: =IFERROR(TRUNC(SUM(#REF!+T30),2),"")
A31: 20 | AN31: =IFERROR(TRUNC(SUM(#REF!+T31),2),"")
A32: 21 | AN32: =IFERROR(TRUNC(SUM(#REF!+T32),2),"")
A33: 22 | AN33: =IFERROR(TRUNC(SUM(#REF!+T33),2),"")
A34: 23 | AN34: =IFERROR(TRUNC(SUM(#REF!+T34),2),"")
A35: 24 | AN35: =IFERROR(TRUNC(SUM(#REF!+T35),2),"")
A36: 25 | AN36: =IFERROR(TRUNC(SUM(#REF!+T36),2),"")
... A40: 29 | AN40: =IFERROR(TRUNC(SUM(#REF!+T40),2),"")

Sheet CONS.2DO TRIM.
A2: INSTITUCIÓN: | C2: CENTRO EDUCATIVO COMUNITARIA INTERCULTURAL BILINGÜE "RUMIÑAHUI"
A3: DOCENTE: | C3: CRISTHIAN QUIÑONEZ
A4: GRADO: | C4: CUARTO | D4: PROCESO | E4: DDTE
A6: SEGUNDO TRIMESTRE
A7: LENGUA Y LITERATURA
A8: ESTUDIANTES | D8: EVALUACIÓN FORMATIVA | E8: EVALUACIÓN SUMATIVA | F8: TOTAL TRIMESTRE (100%)
H9: ESTADÍSTICAS
A10: Nº | B10: CÉDULA | C10: APELLIDOS/NOMBRES
A11: 1 | B11: ='[2]01_lista_jornada_anio_paralelo'!D6 -> 0851920058 | C11: =[3]Agosto!B10 -> AÑAPA AÑAPA SAIRON JOHAO | D11: ='2DO TRIMESTRE'!V12 -> #VALUE! | E11: ='2DO TRIMESTRE'!Z12 -> #DIV/0! | F11: ='2DO TRIMESTRE'!AA12 | H11: LENGUA Y LITERATURA
A12: 2 | B12: ='[2]01_lista_jornada_anio_paralelo'!D7 -> 0851348904 | C12: =[3]Agosto!B11 -> AÑAPA DE LA CRUZ GILBERT SANTIAGO | D12: ='2DO TRIMESTRE'!V13 -> #VALUE! | E12: ='2DO TRIMESTRE'!Z13 -> #DIV/0! | F12: ='2DO TRIMESTRE'!AA13 | H12: ESC. | I12: CANT. | J12: %
A13: 3 | B13: ='[2]01_lista_jornada_anio_paralelo'!D8 -> 0851267625 | C13: =[3]Agosto!B12 -> AÑAPA DE LA CRUZ JANDRI ULICE | D13: ='2DO TRIMESTRE'!V14 -> #VALUE! | E13: ='2DO TRIMESTRE'!Z14 -> #DIV/0! | F13: ='2DO TRIMESTRE'!AA14 | H13: D.A. | I13: =COUNTIF(F11:F39,">8,99") -> 0 | J13: =(I13*100)/I17 -> #DIV/0! | K13: %
A14: 4 | B14: ='[2]01_lista_jornada_anio_paralelo'!D9 -> 1757484652 | C14: =[3]Agosto!B13 -> AÑAPA QUINTERO DENNER JOSTIN | D14: ='2DO TRIMESTRE'!V15 -> #VALUE! | E14: ='2DO TRIMESTRE'!Z15 -> #DIV/0! | F14: ='2DO TRIMESTRE'!AA15 | H14: A.A. | I14: =COUNTIF(F11:F39,">6,99")-I13 -> 0 | J14: =(I14*100)/I17 -> #DIV/0! | K14: %
A15: 5 | B15: ='[2]01_lista_jornada_anio_paralelo'!D10 -> 0851427955 | C15: =[3]Agosto!B14 -> CIMARRON DE LA CRUZ JAMILETH SAIDA | D15: ='2DO TRIMESTRE'!V16 -> #VALUE! | E15: ='2DO TRIMESTRE'!Z16 -> #DIV/0! | F15: ='2DO TRIMESTRE'!AA16 | H15: P.A. | I15: =COUNTIF(F11:F39,">4")-I13-I14 -> 0 | J15: =(I15*100)/I17 -> #DIV/0! | K15: %
A16: 6 | B16: ='[2]01_lista_jornada_anio_paralelo'!D11 -> 0851515122 | C16: =[3]Agosto!B15 -> DE LA CRUZ CIMARRON JHONNY WUALBER | D16: ='2DO TRIMESTRE'!V17 -> #VALUE! | E16: ='2DO TRIMESTRE'!Z17 -> #DIV/0! | F16: ='2DO TRIMESTRE'!AA17 | H16: N.A. | I16: =COUNTIF(F11:F39,">0")-I13-I14-I15 -> 0 | J16: =(I16*100)/I17 -> #DIV/0! | K16: %
A17: 7 | B17: ='[2]01_lista_jornada_anio_paralelo'!D12 -> 0851422535 | C17: =[3]Agosto!B16 -> DE LA CRUZ DE LA CRUZ FERLIN REINALDO | D17: ='2DO TRIMESTRE'!V18 -> #VALUE! | E17: ='2DO TRIMESTRE'!Z18 -> #DIV/0! | F17: ='2DO TRIMESTRE'!AA18 | H17: TOTAL | I17: =SUM(I13:I16) -> 0 | J17: =SUM(J13:J16) -> #DIV/0! | K17: %
A18: 8 | B18: ='[2]01_lista_jornada_anio_paralelo'!D13 -> 0852156157 | C18: =[3]Agosto!B17 -> DE LA CRUZ DELACRUZ HERSON EDISON | D18: ='2DO TRIMESTRE'!V19 -> #VALUE! | E18: ='2DO TRIMESTRE'!Z19 -> #DIV/0! | F18: ='2DO TRIMESTRE'!AA19
A19: 9 | B19: ='[2]01_lista_jornada_anio_paralelo'!D14 -> 1757685621 | C19: =[3]Agosto!B18 -> DE LA CRUZ SAN NICOLAS GRISSELY ROXANA | D19: ='2DO TRIMESTRE'!V20 -> #VALUE! | E19: ='2DO TRIMESTRE'!Z20 -> #DIV/0! | F19: ='2DO TRIMESTRE'!AA20
A20: 10 | B20: ='[2]01_lista_jornada_anio_paralelo'!D15 -> 0851453993 | C20: =[3]Agosto!B19 -> DE LA CRUZ TAPUYO NAICER ANDRAEL | D20: ='2DO TRIMESTRE'!V21 -> #VALUE! | E20: ='2DO TRIMESTRE'!Z21 -> #DIV/0! | F20: ='2DO TRIMESTRE'!AA21
A21: 11 | B21: ='[2]01_lista_jornada_anio_paralelo'!D16 -> 0851427641 | C21: =[3]Agosto!B20 -> DE LA CRUZ TAPUYO ROXI ELBIA | D21: ='2DO TRIMESTRE'!V22 -> #VALUE! | E21: ='2DO TRIMESTRE'!Z22 -> #DIV/0! | F21: ='2DO TRIMESTRE'!AA22
A22: 12 | B22: ='[2]01_lista_jornada_anio_paralelo'!D17 -> 0851427666 | C22: =[3]Agosto!B21 -> TAPUYO DE LA CRUZ SILVIA KATHERINE | D22: ='2DO TRIMESTRE'!V23 -> #VALUE! | E22: ='2DO TRIMESTRE'!Z23 -> #DIV/0! | F22: ='2DO TRIMESTRE'!AA23
A23: 13 | B23: ='[2]01_lista_jornada_anio_paralelo'!D18 -> 1758223646 | C23: =[3]Agosto!B22 -> TAPUYO SAN NICOLAS ROONY JANDRY
C48: DOCENTE | F48: RECTOR

Sheet 3ER TRIMESTRE 
A2: INSTITUCIÓN: | C2: CENTRO EDUCATIVO COMUNITARIA INTERCULTURAL BILINGÜE "RUMIÑAHUI"
A3: DOCENTE: | C3: CRISTHIAN QUIÑONEZ
A4: GRADO: | C4: CUARTO | D4: PROCESO | G4: DDTE
A6: TERCER TRIMESTRE
A7: LENGUA Y LITERATURA
A8: ESTUDIANTES | D8: EVALUACIÓN FORMATIVA | T8: REFUERZO PEDAGÓGICO | V8: TOTAL 70% | W8: EXAMEN DEL TERCER TRIMESTRE | X8: PROYECTO INTERDISCIPLINARIO | Y8: EVALUACIÓN SUMATIVA (PROMEDIO DE EXAMEN+PROYECTO INTERDISCIPLINARIO) | Z8: 0.3 | AA8: TOTAL TRIMESTRE (100%)
D9: APORTES DISCIPLINARES O INTERDISCIPLINARES INDIVIDUALES | L9: APORTES DISCIPLINARES O INTERDISCIPLINARES GRUPALES
D10: Lecciones | F10: Pruebas | H10: Tareas | J10: Proyectos | L10: Proyectos | N10: Exposiciones | P10: Talleres | R10: Productos
A11: Nº | B11: CÉDULA | C11: APELLIDOS/NOMBRES | D11: INSUMO 1 | E11: INSUMO 2 | F11: INSUMO 1 | G11: INSUMO 2 | H11: INSUMO 1 | I11: INSUMO 2 | J11: INSUMO 1 | K11: INSUMO 2 | L11: INSUMO 1 | M11: INSUMO 2 | N11: INSUMO 1 | O11: INSUMO 2 | P11: INSUMO 1 | Q11: INSUMO 2 | R11: INSUMO 1 | S11: INSUMO 2
A12: 1 | B12: ='[2]01_lista_jornada_anio_paralelo'!D6 -> 0851920058 | C12: =[3]Agosto!B10 -> AÑAPA AÑAPA SAIRON JOHAO | V12: =IFERROR(TRUNC(AVERAGE(D12:U12),2),"")*70/100 -> #VALUE! | Y12: =AVERAGE(W12:X12) -> #DIV/0! | Z12: =Y12*30/100 -> #DIV/0! | AA12: =IFERROR(TRUNC(SUM(V12+Z12),2),"") | AQ12: =IFERROR(TRUNC(SUM(N12+Y12),2),"")
A13: 2 | B13: ='[2]01_lista_jornada_anio_paralelo'!D7 -> 0851348904 | C13: =[3]Agosto!B11 -> AÑAPA DE LA CRUZ GILBERT SANTIAGO | V13: =IFERROR(TRUNC(AVERAGE(D13:U13),2),"")*70/100 -> #VALUE! | Y13: =AVERAGE(W13:X13) -> #DIV/0! | Z13: =Y13*30/100 -> #DIV/0! | AA13: =IFERROR(TRUNC(SUM(V13+Z13),2),"") | AQ13: =IFERROR(TRUNC(SUM(N13+Y13),2),"")
A14: 3 | B14: ='[2]01_lista_jornada_anio_paralelo'!D8 -> 0851267625 | C14: =[3]Agosto!B12 -> AÑAPA DE LA CRUZ JANDRI ULICE | V14: =IFERROR(TRUNC(AVERAGE(D14:U14),2),"")*70/100 -> #VALUE! | Y14: =AVERAGE(W14:X14) -> #DIV/0! | Z14: =Y14*30/100 -> #DIV/0! | AA14: =IFERROR(TRUNC(SUM(V14+Z14),2),"") | AQ14: =IFERROR(TRUNC(SUM(N14+Y14),2),"")
A15: 4 | B15: ='[2]01_lista_jornada_anio_paralelo'!D9 -> 1757484652 | C15: =[3]Agosto!B13 -> AÑAPA QUINTERO DENNER JOSTIN | V15: =IFERROR(TRUNC(AVERAGE(D15:U15),2),"")*70/100 -> #VALUE! | Y15: =AVERAGE(W15:X15) -> #DIV/0! | Z15: =Y15*30/100 -> #DIV/0! | AA15: =IFERROR(TRUNC(SUM(V15+Z15),2),"") | AQ15: =IFERROR(TRUNC(SUM(N15+Y15),2),"")
A16: 5 | B16: ='[2]01_lista_jornada_anio_paralelo'!D10 -> 0851427955 | C16: =[3]Agosto!B14 -> CIMARRON DE LA CRUZ JAMILETH SAIDA | V16: =IFERROR(TRUNC(AVERAGE(D16:U16),2),"")*70/100 -> #VALUE! | Y16: =AVERAGE(W16:X16) -> #DIV/0! | Z16: =Y16*30/100 -> #DIV/0! | AA16: =IFERROR(TRUNC(SUM(V16+Z16),2),"") | AQ16: =IFERROR(TRUNC(SUM(N16+Y16),2),"")
A17: 6 | B17: ='[2]01_lista_jornada_anio_paralelo'!D11 -> 0851515122 | C17: =[3]Agosto!B15 -> DE LA CRUZ CIMARRON JHONNY WUALBER | V17: =IFERROR(TRUNC(AVERAGE(D17:U17),2),"")*70/100 -> #VALUE! | Y17: =AVERAGE(W17:X17) -> #DIV/0! | Z17: =Y17*30/100 -> #DIV/0! | AA17: =IFERROR(TRUNC(SUM(V17+Z17),2),"") | AQ17: =IFERROR(TRUNC(SUM(N17+Y17),2),"")
A18: 7 | B18: ='[2]01_lista_jornada_anio_paralelo'!D12 -> 0851422535 | C18: =[3]Agosto!B16 -> DE LA CRUZ DE LA CRUZ FERLIN REINALDO | V18: =IFERROR(TRUNC(AVERAGE(D18:U18),2),"")*70/100 -> #VALUE! | Y18: =AVERAGE(W18:X18) -> #DIV/0! | Z18: =Y18*30/100 -> #DIV/0! | AA18: =IFERROR(TRUNC(SUM(V18+Z18),2),"") | AQ18: =IFERROR(TRUNC(SUM(N18+Y18),2),"")
A19: 8 | B19: ='[2]01_lista_jornada_anio_paralelo'!D13 -> 0852156157 | C19: =[3]Agosto!B17 -> DE LA CRUZ DELACRUZ HERSON EDISON | V19: =IFERROR(TRUNC(AVERAGE(D19:U19),2),"")*70/100 -> #VALUE! | Y19: =AVERAGE(W19:X19) -> #DIV/0! | Z19: =Y19*30/100 -> #DIV/0! | AA19: =IFERROR(TRUNC(SUM(V19+Z19),2),"") | AQ19: =IFERROR(TRUNC(SUM(N19+Y19),2),"")
A20: 9 | B20: ='[2]01_lista_jornada_anio_paralelo'!D14 -> 1757685621 | C20: =[3]Agosto!B18 -> DE LA CRUZ SAN NICOLAS GRISSELY ROXANA | V20: =IFERROR(TRUNC(AVERAGE(D20:U20),2),"")*70/100 -> #VALUE! | Y20: =AVERAGE(W20:X20) -> #DIV/0! | Z20: =Y20*30/100 -> #DIV/0! | AA20: =IFERROR(TRUNC(SUM(V20+Z20),2),"") | AQ20: =IFERROR(TRUNC(SUM(N20+Y20),2),"")
A21: 10 | B21: ='[2]01_lista_jornada_anio_paralelo'!D15 -> 0851453993 | C21: =[3]Agosto!B19 -> DE LA CRUZ TAPUYO NAICER ANDRAEL | V21: =IFERROR(TRUNC(AVERAGE(D21:U21),2),"")*70/100 -> #VALUE! | Y21: =AVERAGE(W21:X21) -> #DIV/0! | Z21: =Y21*30/100 -> #DIV/0! | AA21: =IFERROR(TRUNC(SUM(V21+Z21),2),"") | AQ21: =IFERROR(TRUNC(SUM(N21+Y21),2),"")
A22: 11 | B22: ='[2]01_lista_jornada_anio_paralelo'!D16 -> 0851427641 | C22: =[3]Agosto!B20 -> DE LA CRUZ TAPUYO ROXI ELBIA | V22: =IFERROR(TRUNC(AVERAGE(D22:U22),2),"")*70/100 -> #VALUE! | Y22: =AVERAGE(W22:X22) -> #DIV/0! | Z22: =Y22*30/100 -> #DIV/0! | AA22: =IFERROR(TRUNC(SUM(V22+Z22),2),"") | AQ22: =IFERROR(TRUNC(SUM(N22+Y22),2),"")
A23: 12 | B23: ='[2]01_lista_jornada_anio_paralelo'!D17 -> 0851427666 | C23: =[3]Agosto!B21 -> TAPUYO DE LA CRUZ SILVIA KATHERINE | V23: =IFERROR(TRUNC(AVERAGE(D23:U23),2),"")*70/100 -> #VALUE! | Y23: =AVERAGE(W23:X23) -> #DIV/0! | Z23: =Y23*30/100 -> #DIV/0! | AA23: =IFERROR(TRUNC(SUM(V23+Z23),2),"") | AQ23: =IFERROR(TRUNC(SUM(N23+Y23),2),"")
A24: 13 | B24: ='[2]01_lista_jornada_anio_paralelo'!D18 -> 1758223646 | C24: =[3]Agosto!B22 -> TAPUYO SAN NICOLAS ROONY JANDRY | AQ24: =IFERROR(TRUNC(SUM(N24+Y24),2),"") -> 0
AQ25: =IFERROR(TRUNC(SUM(N25+Y25),2),"") -> 0
AQ26: =IFERROR(TRUNC(SUM(N26+Y26),2),"") -> 0
AQ27: =IFERROR(TRUNC(SUM(N27+Y27),2),"") -> 0
AQ28: =IFERROR(TRUNC(SUM(N28+Y28),2),"") -> 0
AQ29: =IFERROR(TRUNC(SUM(N29+Y29),2),"") -> 0
AQ30: =IFERROR(TRUNC(SUM(N30+Y30),2),"") -> 0
AQ31: =IFERROR(TRUNC(SUM(N31+Y31),2),"") -> 0
AQ32: =IFERROR(TRUNC(SUM(N32+Y32),2),"") -> 0
AQ33: =IFERROR(TRUNC(SUM(N33+Y33),2),"") -> 0
AQ34: =IFERROR(TRUNC(SUM(N34+Y34),2),"") -> 0
AQ35: =IFERROR(TRUNC(SUM(N35+Y35),2),"") -> 0
AQ36: =IFERROR(TRUNC(SUM(N36+Y36),2),"") -> 0
... AQ40: =IFERROR(TRUNC(SUM(N40+Y40),2),"") -> 0

Sheet CONS. 3ER TRIM.
A2: INSTITUCIÓN: | C2: CENTRO EDUCATIVO COMUNITARIA INTERCULTURAL BILINGÜE "RUMIÑAHUI"
A3: DOCENTE: | C3: CRISTHIAN QUIÑONEZ
A4: GRADO: | C4: CUARTO | D4: PROCESO | E4: DDTE
A6: TERCER TRIMESTRE
A7: LENGUA Y LITERATURA
A8: ESTUDIANTES | D8: EVALUACIÓN FORMATIVA | E8: EVALUACIÓN SUMATIVA | F8: TOTAL TRIMESTRE (100%)
H9: ESTADÍSTICAS
A10: Nº | B10: CÉDULA | C10: APELLIDOS/NOMBRES
A11: 1 | B11: ='[2]01_lista_jornada_anio_paralelo'!D6 -> 0851920058 | C11: =[3]Agosto!B10 -> AÑAPA AÑAPA SAIRON JOHAO | D11: ='3ER TRIMESTRE '!V12 -> #VALUE! | E11: ='3ER TRIMESTRE '!Z12 -> #DIV/0! | F11: ='3ER TRIMESTRE '!AA12 | H11: LENGUA Y LITERATURA
A12: 2 | B12: ='[2]01_lista_jornada_anio_paralelo'!D7 -> 0851348904 | C12: =[3]Agosto!B11 -> AÑAPA DE LA CRUZ GILBERT SANTIAGO | D12: ='3ER TRIMESTRE '!V13 -> #VALUE! | E12: ='3ER TRIMESTRE '!Z13 -> #DIV/0! | F12: ='3ER TRIMESTRE '!AA13 | H12: ESC. | I12: CANT. | J12: %
A13: 3 | B13: ='[2]01_lista_jornada_anio_paralelo'!D8 -> 0851267625 | C13: =[3]Agosto!B12 -> AÑAPA DE LA CRUZ JANDRI ULICE | D13: ='3ER TRIMESTRE '!V14 -> #VALUE! | E13: ='3ER TRIMESTRE '!Z14 -> #DIV/0! | F13: ='3ER TRIMESTRE '!AA14 | H13: D.A. | I13: =COUNTIF(F11:F39,">8,99") -> 0 | J13: =(I13*100)/I17 -> #DIV/0! | K13: %
A14: 4 | B14: ='[2]01_lista_jornada_anio_paralelo'!D9 -> 1757484652 | C14: =[3]Agosto!B13 -> AÑAPA QUINTERO DENNER JOSTIN | D14: ='3ER TRIMESTRE '!V15 -> #VALUE! | E14: ='3ER TRIMESTRE '!Z15 -> #DIV/0! | F14: ='3ER TRIMESTRE '!AA15 | H14: A.A. | I14: =COUNTIF(F11:F39,">6,99")-I13 -> 0 | J14: =(I14*100)/I17 -> #DIV/0! | K14: %
A15: 5 | B15: ='[2]01_lista_jornada_anio_paralelo'!D10 -> 0851427955 | C15: =[3]Agosto!B14 -> CIMARRON DE LA CRUZ JAMILETH SAIDA | D15: ='3ER TRIMESTRE '!V16 -> #VALUE! | E15: ='3ER TRIMESTRE '!Z16 -> #DIV/0! | F15: ='3ER TRIMESTRE '!AA16 | H15: P.A. | I15: =COUNTIF(F11:F39,">4")-I13-I14 -> 0 | J15: =(I15*100)/I17 -> #DIV/0! | K15: %
A16: 6 | B16: ='[2]01_lista_jornada_anio_paralelo'!D11 -> 0851515122 | C16: =[3]Agosto!B15 -> DE LA CRUZ CIMARRON JHONNY WUALBER | D16: ='3ER TRIMESTRE '!V17 -> #VALUE! | E16: ='3ER TRIMESTRE '!Z17 -> #DIV/0! | F16: ='3ER TRIMESTRE '!AA17 | H16: N.A. | I16: =COUNTIF(F11:F39,">0")-I13-I14-I15 -> 0 | J16: =(I16*100)/I17 -> #DIV/0! | K16: %
A17: 7 | B17: ='[2]01_lista_jornada_anio_paralelo'!D12 -> 0851422535 | C17: =[3]Agosto!B16 -> DE LA CRUZ DE LA CRUZ FERLIN REINALDO | D17: ='3ER TRIMESTRE '!V18 -> #VALUE! | E17: ='3ER TRIMESTRE '!Z18 -> #DIV/0! | F17: ='3ER TRIMESTRE '!AA18 | H17: TOTAL | I17: =SUM(I13:I16) -> 0 | J17: =SUM(J13:J16) -> #DIV/0! | K17: %
A18: 8 | B18: ='[2]01_lista_jornada_anio_paralelo'!D13 -> 0852156157 | C18: =[3]Agosto!B17 -> DE LA CRUZ DELACRUZ HERSON EDISON | D18: ='3ER TRIMESTRE '!V19 -> #VALUE! | E18: ='3ER TRIMESTRE '!Z19 -> #DIV/0! | F18: ='3ER TRIMESTRE '!AA19
A19: 9 | B19: ='[2]01_lista_jornada_anio_paralelo'!D14 -> 1757685621 | C19: =[3]Agosto!B18 -> DE LA CRUZ SAN NICOLAS GRISSELY ROXANA | D19: ='3ER TRIMESTRE '!V20 -> #VALUE! | E19: ='3ER TRIMESTRE '!Z20 -> #DIV/0! | F19: ='3ER TRIMESTRE '!AA20
A20: 10 | B20: ='[2]01_lista_jornada_anio_paralelo'!D15 -> 0851453993 | C20: =[3]Agosto!B19 -> DE LA CRUZ TAPUYO NAICER ANDRAEL | D20: ='3ER TRIMESTRE '!V21 -> #VALUE! | E20: ='3ER TRIMESTRE '!Z21 -> #DIV/0! | F20: ='3ER TRIMESTRE '!AA21
A21: 11 | B21: ='[2]01_lista_jornada_anio_paralelo'!D16 -> 0851427641 | C21: =[3]Agosto!B20 -> DE LA CRUZ TAPUYO ROXI ELBIA | D21: ='3ER TRIMESTRE '!V22 -> #VALUE! | E21: ='3ER TRIMESTRE '!Z22 -> #DIV/0! | F21: ='3ER TRIMESTRE '!AA22
A22: 12 | B22: ='[2]01_lista_jornada_anio_paralelo'!D17 -> 0851427666 | C22: =[3]Agosto!B21 -> TAPUYO DE LA CRUZ SILVIA KATHERINE | D22: ='3ER TRIMESTRE '!V23 -> #VALUE! | E22: ='3ER TRIMESTRE '!Z23 -> #DIV/0! | F22: ='3ER TRIMESTRE '!AA23
A23: 13 | B23: ='[2]01_lista_jornada_anio_paralelo'!D18 -> 1758223646 | C23: =[3]Agosto!B22 -> TAPUYO SAN NICOLAS ROONY JANDRY
C48: DOCENTE | F48: RECTOR

Sheet CALF. TRIMESTRALES
A2: INSTITUCIÓN: | C2: CENTRO EDUCATIVO COMUNITARIA INTERCULTURAL BILINGÜE "RUMIÑAHUI"
A3: DOCENTE: | C3: CRISTHIAN QUIÑONEZ
A4: GRADO: | C4: CUARTO | D4: PROCESO | F4: DDTE
D6: CIENCIAS NATURALES
A7: ESTUDIANTES | D7: TRIMESTRES | G7: NOTA FINAL (100%) | H7: OBSERVACIÓN
A8: Nº | B8: CÉDULA | C8: APELLIDOS/NOMBRES | D8: 1er | E8: 2do | F8: 3er
A9: 1 | B9: ='[2]01_lista_jornada_anio_paralelo'!D6 -> 0851920058 | C9: =[3]Agosto!B10 -> AÑAPA AÑAPA SAIRON JOHAO | D9: ='1ER TRIMESTRE'!AA12 -> 10 | E9: ='2DO TRIMESTRE'!AA12 | F9: ='3ER TRIMESTRE '!AA12 | G9: =IFERROR(TRUNC(AVERAGE(D9:F9),2),"")*100/100 -> 10 | H9: =IF(G9="","",IF(G9>=7,"APROBADO",IF(AND(G9<=6.99,G9>=5),"SUPLETORIO","REPROBADO"))) -> APROBADO
A10: 2 | B10: ='[2]01_lista_jornada_anio_paralelo'!D7 -> 0851348904 | C10: =[3]Agosto!B11 -> AÑAPA DE LA CRUZ GILBERT SANTIAGO | D10: ='1ER TRIMESTRE'!AA13 -> 10 | E10: ='2DO TRIMESTRE'!AA13 | F10: ='3ER TRIMESTRE '!AA13 | G10: =IFERROR(TRUNC(AVERAGE(D10:F10),2),"")*100/100 -> 10 | H10: =IF(G10="","",IF(G10>=7,"APROBADO",IF(AND(G10<=6.99,G10>=5),"SUPLETORIO","REPROBADO"))) -> APROBADO
A11: 3 | B11: ='[2]01_lista_jornada_anio_paralelo'!D8 -> 0851267625 | C11: =[3]Agosto!B12 -> AÑAPA DE LA CRUZ JANDRI ULICE | D11: ='1ER TRIMESTRE'!AA14 -> 8.46 | E11: ='2DO TRIMESTRE'!AA14 | F11: ='3ER TRIMESTRE '!AA14 | G11: =IFERROR(TRUNC(AVERAGE(D11:F11),2),"")*100/100 -> 8.46 | H11: =IF(G11="","",IF(G11>=7,"APROBADO",IF(AND(G11<=6.99,G11>=5),"SUPLETORIO","REPROBADO"))) -> APROBADO
A12: 4 | B12: ='[2]01_lista_jornada_anio_paralelo'!D9 -> 1757484652 | C12: =[3]Agosto!B13 -> AÑAPA QUINTERO DENNER JOSTIN | D12: ='1ER TRIMESTRE'!AA15 -> 10 | E12: ='2DO TRIMESTRE'!AA15 | F12: ='3ER TRIMESTRE '!AA15 | G12: =IFERROR(TRUNC(AVERAGE(D12:F12),2),"")*100/100 -> 10 | H12: =IF(G12="","",IF(G12>=7,"APROBADO",IF(AND(G12<=6.99,G12>=5),"SUPLETORIO","REPROBADO"))) -> APROBADO
A13: 5 | B13: ='[2]01_lista_jornada_anio_paralelo'!D10 -> 0851427955 | C13: =[3]Agosto!B14 -> CIMARRON DE LA CRUZ JAMILETH SAIDA | D13: ='1ER TRIMESTRE'!AA16 -> 8.76 | E13: ='2DO TRIMESTRE'!AA16 | F13: ='3ER TRIMESTRE '!AA16 | G13: =IFERROR(TRUNC(AVERAGE(D13:F13),2),"")*100/100 -> 8.76 | H13: =IF(G13="","",IF(G13>=7,"APROBADO",IF(AND(G13<=6.99,G13>=5),"SUPLETORIO","REPROBADO"))) -> APROBADO
A14: 6 | B14: ='[2]01_lista_jornada_anio_paralelo'!D11 -> 0851515122 | C14: =[3]Agosto!B15 -> DE LA CRUZ CIMARRON JHONNY WUALBER | D14: ='1ER TRIMESTRE'!AA17 -> 10 | E14: ='2DO TRIMESTRE'!AA17 | F14: ='3ER TRIMESTRE '!AA17 | G14: =IFERROR(TRUNC(AVERAGE(D14:F14),2),"")*100/100 -> 10 | H14: =IF(G14="","",IF(G14>=7,"APROBADO",IF(AND(G14<=6.99,G14>=5),"SUPLETORIO","REPROBADO"))) -> APROBADO
A15: 7 | B15: ='[2]01_lista_jornada_anio_paralelo'!D12 -> 0851422535 | C15: =[3]Agosto!B16 -> DE LA CRUZ DE LA CRUZ FERLIN REINALDO | D15: ='1ER TRIMESTRE'!AA18 | E15: ='2DO TRIMESTRE'!AA18 | F15: ='3ER TRIMESTRE '!AA18 | G15: =IFERROR(TRUNC(AVERAGE(D15:F15),2),"")*100/100 -> #VALUE! | H15: =IF(G15="","",IF(G15>=7,"APROBADO",IF(AND(G15<=6.99,G15>=5),"SUPLETORIO","REPROBADO"))) -> #VALUE!
A16: 8 | B16: ='[2]01_lista_jornada_anio_paralelo'!D13 -> 0852156157 | C16: =[3]Agosto!B17 -> DE LA CRUZ DELACRUZ HERSON EDISON | D16: ='1ER TRIMESTRE'!AA19 -> 8.23 | E16: ='2DO TRIMESTRE'!AA19 | F16: ='3ER TRIMESTRE '!AA19 | G16: =IFERROR(TRUNC(AVERAGE(D16:F16),2),"")*100/100 -> 8.23 | H16: =IF(G16="","",IF(G16>=7,"APROBADO",IF(AND(G16<=6.99,G16>=5),"SUPLETORIO","REPROBADO"))) -> APROBADO
A17: 9 | B17: ='[2]01_lista_jornada_anio_paralelo'!D14 -> 1757685621 | C17: =[3]Agosto!B18 -> DE LA CRUZ SAN NICOLAS GRISSELY ROXANA | D17: ='1ER TRIMESTRE'!AA20 -> 7.53 | E17: ='2DO TRIMESTRE'!AA20 | F17: ='3ER TRIMESTRE '!AA20 | G17: =IFERROR(TRUNC(AVERAGE(D17:F17),2),"")*100/100 -> 7.53 | H17: =IF(G17="","",IF(G17>=7,"APROBADO",IF(AND(G17<=6.99,G17>=5),"SUPLETORIO","REPROBADO"))) -> APROBADO
A18: 10 | B18: ='[2]01_lista_jornada_anio_paralelo'!D15 -> 0851453993 | C18: =[3]Agosto!B19 -> DE LA CRUZ TAPUYO NAICER ANDRAEL | D18: ='1ER TRIMESTRE'!AA21 -> 9.16 | E18: ='2DO TRIMESTRE'!AA21 | F18: ='3ER TRIMESTRE '!AA21 | G18: =IFERROR(TRUNC(AVERAGE(D18:F18),2),"")*100/100 -> 9.16 | H18: =IF(G18="","",IF(G18>=7,"APROBADO",IF(AND(G18<=6.99,G18>=5),"SUPLETORIO","REPROBADO"))) -> APROBADO
A19: 11 | B19: ='[2]01_lista_jornada_anio_paralelo'!D16 -> 0851427641 | C19: =[3]Agosto!B20 -> DE LA CRUZ TAPUYO ROXI ELBIA | D19: ='1ER TRIMESTRE'!AA22 -> 10 | E19: ='2DO TRIMESTRE'!AA22 | F19: ='3ER TRIMESTRE '!AA22 | G19: =IFERROR(TRUNC(AVERAGE(D19:F19),2),"")*100/100 -> 10 | H19: =IF(G19="","",IF(G19>=7,"APROBADO",IF(AND(G19<=6.99,G19>=5),"SUPLETORIO","REPROBADO"))) -> APROBADO
A20: 12 | B20: ='[2]01_lista_jornada_anio_paralelo'!D17 -> 0851427666 | C20: =[3]Agosto!B21 -> TAPUYO DE LA CRUZ SILVIA KATHERINE | D20: ='1ER TRIMESTRE'!AA23 -> 10 | E20: ='2DO TRIMESTRE'!AA23 | F20: ='3ER TRIMESTRE '!AA23 | G20: =IFERROR(TRUNC(AVERAGE(D20:F20),2),"")*100/100 -> 10 | H20: =IF(G20="","",IF(G20>=7,"APROBADO",IF(AND(G20<=6.99,G20>=5),"SUPLETORIO","REPROBADO"))) -> APROBADO
A21: 13 | B21: ='[2]01_lista_jornada_anio_paralelo'!D18 -> 1758223646 | C21: =[3]Agosto!B22 -> TAPUYO SAN NICOLAS ROONY JANDRY
C39: ESTUDIANTES: | D39: =COUNTIF(G9:G37,">0") -> 11
C40: PROMEDIO DE RENDIMIENTO | D40: =SUM(G9:G37)/D39 -> #VALUE!
C42: CALIFICACIÓN ANUAL | E42: MATEMATICA
C43: RANGOS | E43: Esc. | F43: Cant.
C44: RANGO (10-9 PTS) D.A.R | E44: D.A.R | F44: =COUNTIF(G9:G37,">8,99") -> 7
C45: RANGO (8,99-7 PTS) A.A.R | E45: A.A.R | F45: =COUNTIF(G9:G37,">6,99")-F44 -> 4
C46: RANGO (6,99-4,01 PTS) P.A.A.R | E46: P.A.A.R | F46: =COUNTIF(G9:G37,">4")-F45-F44 -> 0
C47: RANGO (<=4 PTS) N.A.A.R | E47: N.A.A.R | F47: =COUNTIF(G9:G37,">0")-F46-F45-F44 -> 0
E48: TOTAL | F48: =SUM(F44:F47) -> 11
C53: DOCENTE | G53: RECTOR

Sheet SUPLETORIO
A2: INSTITUCIÓN: | C2: CENTRO EDUCATIVO COMUNITARIA INTERCULTURAL BILINGÜE "RUMIÑAHUI"
A3: DOCENTE: | C3: CRISTHIAN QUIÑONEZ
A4: GRADO: | C4: CUARTO | D4: PROCESO | F4: DDTE
C6: ESTUDIANTES | D6: LENGUA Y LITERATURA
A7: Nº | B7: CÉDULA | C7: APELLIDOS/NOMBRES | D7: CALF. FINAL | E7: EXA. SUPLET | F7: FINAL ANUAL | G7: OBSERVACIÓN
A8: 1 | B8: ='[2]01_lista_jornada_anio_paralelo'!D6 -> 0851920058 | C8: =[3]Agosto!B10 -> AÑAPA AÑAPA SAIRON JOHAO | D8: ='CALF. TRIMESTRALES'!G9 -> 10 | F8: =IF(D8>=7,D8,IF(D8="","",IF(E8="",AVERAGE(D8:E8),IF(AND(D8<4.01,E8<>""),D8,IF(E8<7,D8,7))))) -> 10 | G8: =IF(AND(D8>=7,E8<>""),"DEJE EN BLANCO EL CASILLERO SUPLETORIO",IF(D8="","",IF(AND(D8<5,E8<>""),"NO PUEDE RENDIR SUPLETORIO;REPRUEBA EL GRADO",IF(F8<7,"NO PROMOVIDO","PROMOVIDO")))) -> PROMOVIDO
A9: 2 | B9: ='[2]01_lista_jornada_anio_paralelo'!D7 -> 0851348904 | C9: =[3]Agosto!B11 -> AÑAPA DE LA CRUZ GILBERT SANTIAGO | D9: ='CALF. TRIMESTRALES'!G10 -> 10 | F9: =IF(D9>=7,D9,IF(D9="","",IF(E9="",AVERAGE(D9:E9),IF(AND(D9<4.01,E9<>""),D9,IF(E9<7,D9,7))))) -> 10 | G9: =IF(AND(D9>=7,E9<>""),"DEJE EN BLANCO EL CASILLERO SUPLETORIO",IF(D9="","",IF(AND(D9<5,E9<>""),"NO PUEDE RENDIR SUPLETORIO;REPRUEBA EL GRADO",IF(F9<7,"NO PROMOVIDO","PROMOVIDO")))) -> PROMOVIDO
A10: 3 | B10: ='[2]01_lista_jornada_anio_paralelo'!D8 -> 0851267625 | C10: =[3]Agosto!B12 -> AÑAPA DE LA CRUZ JANDRI ULICE | D10: ='CALF. TRIMESTRALES'!G11 -> 8.46 | F10: =IF(D10>=7,D10,IF(D10="","",IF(E10="",AVERAGE(D10:E10),IF(AND(D10<4.01,E10<>""),D10,IF(E10<7,D10,7))))) -> 8.46 | G10: =IF(AND(D10>=7,E10<>""),"DEJE EN BLANCO EL CASILLERO SUPLETORIO",IF(D10="","",IF(AND(D10<5,E10<>""),"NO PUEDE RENDIR SUPLETORIO;REPRUEBA EL GRADO",IF(F10<7,"NO PROMOVIDO","PROMOVIDO")))) -> PROMOVIDO
A11: 4 | B11: ='[2]01_lista_jornada_anio_paralelo'!D9 -> 1757484652 | C11: =[3]Agosto!B13 -> AÑAPA QUINTERO DENNER JOSTIN | D11: ='CALF. TRIMESTRALES'!G12 -> 10 | F11: =IF(D11>=7,D11,IF(D11="","",IF(E11="",AVERAGE(D11:E11),IF(AND(D11<4.01,E11<>""),D11,IF(E11<7,D11,7))))) -> 10 | G11: =IF(AND(D11>=7,E11<>""),"DEJE EN BLANCO EL CASILLERO SUPLETORIO",IF(D11="","",IF(AND(D11<5,E11<>""),"NO PUEDE RENDIR SUPLETORIO;REPRUEBA EL GRADO",IF(F11<7,"NO PROMOVIDO","PROMOVIDO")))) -> PROMOVIDO
A12: 5 | B12: ='[2]01_lista_jornada_anio_paralelo'!D10 -> 0851427955 | C12: =[3]Agosto!B14 -> CIMARRON DE LA CRUZ JAMILETH SAIDA | D12: ='CALF. TRIMESTRALES'!G13 -> 8.76 | F12: =IF(D12>=7,D12,IF(D12="","",IF(E12="",AVERAGE(D12:E12),IF(AND(D12<4.01,E12<>""),D12,IF(E12<7,D12,7))))) -> 8.76 | G12: =IF(AND(D12>=7,E12<>""),"DEJE EN BLANCO EL CASILLERO SUPLETORIO",IF(D12="","",IF(AND(D12<5,E12<>""),"NO PUEDE RENDIR SUPLETORIO;REPRUEBA EL GRADO",IF(F12<7,"NO PROMOVIDO","PROMOVIDO")))) -> PROMOVIDO
A13: 6 | B13: ='[2]01_lista_jornada_anio_paralelo'!D11 -> 0851515122 | C13: =[3]Agosto!B15 -> DE LA CRUZ CIMARRON JHONNY WUALBER | D13: ='CALF. TRIMESTRALES'!G14 -> 10 | F13: =IF(D13>=7,D13,IF(D13="","",IF(E13="",AVERAGE(D13:E13),IF(AND(D13<4.01,E13<>""),D13,IF(E13<7,D13,7))))) -> 10 | G13: =IF(AND(D13>=7,E13<>""),"DEJE EN BLANCO EL CASILLERO SUPLETORIO",IF(D13="","",IF(AND(D13<5,E13<>""),"NO PUEDE RENDIR SUPLETORIO;REPRUEBA EL GRADO",IF(F13<7,"NO PROMOVIDO","PROMOVIDO")))) -> PROMOVIDO
A14: 7 | B14: ='[2]01_lista_jornada_anio_paralelo'!D12 -> 0851422535 | C14: =[3]Agosto!B16 -> DE LA CRUZ DE LA CRUZ FERLIN REINALDO | D14: ='CALF. TRIMESTRALES'!G15 -> #VALUE! | F14: =IF(D14>=7,D14,IF(D14="","",IF(E14="",AVERAGE(D14:E14),IF(AND(D14<4.01,E14<>""),D14,IF(E14<7,D14,7))))) -> #VALUE! | G14: =IF(AND(D14>=7,E14<>""),"DEJE EN BLANCO EL CASILLERO SUPLETORIO",IF(D14="","",IF(AND(D14<5,E14<>""),"NO PUEDE RENDIR SUPLETORIO;REPRUEBA EL GRADO",IF(F14<7,"NO PROMOVIDO","PROMOVIDO")))) -> #VALUE!
A15: 8 | B15: ='[2]01_lista_jornada_anio_paralelo'!D13 -> 0852156157 | C15: =[3]Agosto!B17 -> DE LA CRUZ DELACRUZ HERSON EDISON | D15: ='CALF. TRIMESTRALES'!G16 -> 8.23 | F15: =IF(D15>=7,D15,IF(D15="","",IF(E15="",AVERAGE(D15:E15),IF(AND(D15<4.01,E15<>""),D15,IF(E15<7,D15,7))))) -> 8.23 | G15: =IF(AND(D15>=7,E15<>""),"DEJE EN BLANCO EL CASILLERO SUPLETORIO",IF(D15="","",IF(AND(D15<5,E15<>""),"NO PUEDE RENDIR SUPLETORIO;REPRUEBA EL GRADO",IF(F15<7,"NO PROMOVIDO","PROMOVIDO")))) -> PROMOVIDO
A16: 9 | B16: ='[2]01_lista_jornada_anio_paralelo'!D14 -> 1757685621 | C16: =[3]Agosto!B18 -> DE LA CRUZ SAN NICOLAS GRISSELY ROXANA | D16: ='CALF. TRIMESTRALES'!G17 -> 7.53 | F16: =IF(D16>=7,D16,IF(D16="","",IF(E16="",AVERAGE(D16:E16),IF(AND(D16<4.01,E16<>""),D16,IF(E16<7,D16,7))))) -> 7.53 | G16: =IF(AND(D16>=7,E16<>""),"DEJE EN BLANCO EL CASILLERO SUPLETORIO",IF(D16="","",IF(AND(D16<5,E16<>""),"NO PUEDE RENDIR SUPLETORIO;REPRUEBA EL GRADO",IF(F16<7,"NO PROMOVIDO","PROMOVIDO")))) -> PROMOVIDO
A17: 10 | B17: ='[2]01_lista_jornada_anio_paralelo'!D15 -> 0851453993 | C17: =[3]Agosto!B19 -> DE LA CRUZ TAPUYO NAICER ANDRAEL | D17: ='CALF. TRIMESTRALES'!G18 -> 9.16 | F17: =IF(D17>=7,D17,IF(D17="","",IF(E17="",AVERAGE(D17:E17),IF(AND(D17<4.01,E17<>""),D17,IF(E17<7,D17,7))))) -> 9.16 | G17: =IF(AND(D17>=7,E17<>""),"DEJE EN BLANCO EL CASILLERO SUPLETORIO",IF(D17="","",IF(AND(D17<5,E17<>""),"NO PUEDE RENDIR SUPLETORIO;REPRUEBA EL GRADO",IF(F17<7,"NO PROMOVIDO","PROMOVIDO")))) -> PROMOVIDO
A18: 11 | B18: ='[2]01_lista_jornada_anio_paralelo'!D16 -> 0851427641 | C18: =[3]Agosto!B20 -> DE LA CRUZ TAPUYO ROXI ELBIA | D18: ='CALF. TRIMESTRALES'!G19 -> 10 | F18: =IF(D18>=7,D18,IF(D18="","",IF(E18="",AVERAGE(D18:E18),IF(AND(D18<4.01,E18<>""),D18,IF(E18<7,D18,7))))) -> 10 | G18: =IF(AND(D18>=7,E18<>""),"DEJE EN BLANCO EL CASILLERO SUPLETORIO",IF(D18="","",IF(AND(D18<5,E18<>""),"NO PUEDE RENDIR SUPLETORIO;REPRUEBA EL GRADO",IF(F18<7,"NO PROMOVIDO","PROMOVIDO")))) -> PROMOVIDO
A19: 12 | B19: ='[2]01_lista_jornada_anio_paralelo'!D17 -> 0851427666 | C19: =[3]Agosto!B21 -> TAPUYO DE LA CRUZ SILVIA KATHERINE | D19: ='CALF. TRIMESTRALES'!G20 -> 10 | F19: =IF(D19>=7,D19,IF(D19="","",IF(E19="",AVERAGE(D19:E19),IF(AND(D19<4.01,E19<>""),D19,IF(E19<7,D19,7))))) -> 10 | G19: =IF(AND(D19>=7,E19<>""),"DEJE EN BLANCO EL CASILLERO SUPLETORIO",IF(D19="","",IF(AND(D19<5,E19<>""),"NO PUEDE RENDIR SUPLETORIO;REPRUEBA EL GRADO",IF(F19<7,"NO PROMOVIDO","PROMOVIDO")))) -> PROMOVIDO
A20: 13 | B20: ='[2]01_lista_jornada_anio_paralelo'!D18 -> 1758223646 | C20: =[3]Agosto!B22 -> TAPUYO SAN NICOLAS ROONY JANDRY
C44: DOCENTE | F44: RECTOR
